BEGIN:VCALENDAR
PRODID:NingEventWidget-v1
VERSION:2.0
METHOD:PUBLISH
BEGIN:VTIMEZONE
TZID:Europe/Vienna
X-LIC-LOCATION:Europe/Vienna
BEGIN:DAYLIGHT
TZOFFSETFROM:+0100
TZOFFSETTO:+0200
TZNAME:CEST
DTSTART:19700329T020000
RRULE:FREQ=YEARLY;BYMONTH=3;BYDAY=-1SU
END:DAYLIGHT
BEGIN:STANDARD
TZOFFSETFROM:+0200
TZOFFSETTO:+0100
TZNAME:CET
DTSTART:19701025T030000
RRULE:FREQ=YEARLY;BYMONTH=10;BYDAY=-1SU
END:STANDARD
END:VTIMEZONE
BEGIN:VEVENT
UID:6444107:Event:148722
DTSTAMP:20260424T153106Z
SUMMARY:Frauenkunsthandwerksmarkt 2022
DESCRIPTION:Es erwartet Sie hochwertige und kreativ gestaltete Handwer
 kskunst in gemütlicher Atmosphäre. Entdecken und erwerben Sie Ihr g
 anz persönliches Lieblingsstück bei freiem Eintritt.\nWir freuen un
 s auf Ihr Kommen!\n\nWeitere Informationen erhalten Sie unter https://
 kunsthandwerk.artbeat.at/events/frauenkunsthandwerksmarkt-2022
DTSTART;TZID=Europe/Vienna:20221210T100000
DTEND;TZID=Europe/Vienna:20221211T180000
CATEGORIES:kunsthandwerksmarkt
LOCATION:Salzburg
WEBSITE:https://www.frauenkunsthandwerk.at/
URL:https://www.frauenkunsthandwerk.at/
CONTACT:0650/6575136
ORGANIZER;CN="Christina König":https://kunsthandwerk.artbeat.at/profi
 le/ChristinaKoenig
ATTACH;FMTTYPE="image/jpeg":https://storage.ning.com/topology/rest/1.0
 /file/get/10255481493?profile=original
ATTENDEE;ROLE=REQ-PARTICIPANT;PARTSTAT=ACCEPTED;RSVP=TRUE;CN="Christin
 a König":https://kunsthandwerk.artbeat.at/profile/ChristinaKoenig
END:VEVENT
END:VCALENDAR
