BEGIN:VCALENDAR
PRODID:NingEventWidget-v1
VERSION:2.0
METHOD:PUBLISH
BEGIN:VTIMEZONE
TZID:Europe/Vienna
X-LIC-LOCATION:Europe/Vienna
BEGIN:DAYLIGHT
TZOFFSETFROM:+0100
TZOFFSETTO:+0200
TZNAME:CEST
DTSTART:19700329T020000
RRULE:FREQ=YEARLY;BYMONTH=3;BYDAY=-1SU
END:DAYLIGHT
BEGIN:STANDARD
TZOFFSETFROM:+0200
TZOFFSETTO:+0100
TZNAME:CET
DTSTART:19701025T030000
RRULE:FREQ=YEARLY;BYMONTH=10;BYDAY=-1SU
END:STANDARD
END:VTIMEZONE
BEGIN:VEVENT
UID:6444107:Event:41233
DTSTAMP:20260424T170212Z
SUMMARY:GALLUSMARKT Kunst- und Handwerksmarkt
DESCRIPTION:\n\nDie Idee\n\n\nKremsmünster ist regional bekannt als M
 arktgemeinde und dies seit bereits seit 1489. Nun soll ein alter Markt
  zu Ehren des Hl. Gallus wieder aufgelebt lassen werden. Der Hl. Gallu
 s hat am 16. Oktober Namenstag. Und bereits seit 1827 gibt es in Krems
 münster einen Gallusmarkt wie folgendes Zitat belegt.\nVon den noch i
 n Uebung bestehenden Markts Privilegien bemerken wir den alle Mittwoch
 e hier abgehaltenen Wochenmarkt zwey als am Pfingstdinstage und St Bar
 tholomäus Tage hier statt findende Jahrmärkte und einen schon im Jah
 re 1818 bewilligten aber erst seit 1827 in Gang gebrachten Roß und 
 Viehmarkt am Mittwoche nach St Gallus.\n\nQuelle: Historische und top
 graphische Darstellung vom Stift Kremsmünster, Ulrich Hartenschneider
 , 1830\nAuch in Zukunft soll der Gallusmarkt jeweils am Samstag um den
  16. Oktober (Namenstag des Hl. Gallus) veranstaltet werden. Der näch
 ste Gallusmarkt findet somit am 14. Oktober 2017 statt.\nDer erste Mar
 kt der Saison präsentiert eine breite Palette von Handwerkern und Ku
 nsthandwerkern aus der Region – manche lassen sich dabei auch gerne 
 über die Schultern schauen.\n\n\nWeitere Informationen erhalten Sie u
 nter https://kunsthandwerk.artbeat.at/events/gallusmarkt-kunst-und-han
 dwerksmarkt
DTSTART;TZID=Europe/Vienna:20161022T090000
DTEND;TZID=Europe/Vienna:20161022T170000
CATEGORIES:markt
LOCATION:Rathausplatz, Kremsmünster
WEBSITE:
URL:
CONTACT:
ORGANIZER;CN="Gerhard Söllradl":https://kunsthandwerk.artbeat.at/prof
 ile/GerhardSoellradl
ATTACH;FMTTYPE="image/jpeg":http://storage.ning.com/topology/rest/1.0/
 file/get/122587411?profile=original
ATTENDEE;ROLE=REQ-PARTICIPANT;PARTSTAT=ACCEPTED;RSVP=TRUE;CN="Diana Br
 unner":https://kunsthandwerk.artbeat.at/profile/DianaBrunner
ATTENDEE;ROLE=REQ-PARTICIPANT;PARTSTAT=ACCEPTED;RSVP=TRUE;CN="Gerhard 
 Söllradl":https://kunsthandwerk.artbeat.at/profile/GerhardSoellradl
END:VEVENT
END:VCALENDAR
