BEGIN:VCALENDAR
PRODID:NingEventWidget-v1
VERSION:2.0
METHOD:PUBLISH
BEGIN:VTIMEZONE
TZID:Europe/Vienna
X-LIC-LOCATION:Europe/Vienna
BEGIN:DAYLIGHT
TZOFFSETFROM:+0100
TZOFFSETTO:+0200
TZNAME:CEST
DTSTART:19700329T020000
RRULE:FREQ=YEARLY;BYMONTH=3;BYDAY=-1SU
END:DAYLIGHT
BEGIN:STANDARD
TZOFFSETFROM:+0200
TZOFFSETTO:+0100
TZNAME:CET
DTSTART:19701025T030000
RRULE:FREQ=YEARLY;BYMONTH=10;BYDAY=-1SU
END:STANDARD
END:VTIMEZONE
BEGIN:VEVENT
UID:6444107:Event:13326
DTSTAMP:20260424T205814Z
SUMMARY:HandArt Rankweil
DESCRIPTION:Hochwertiges Kunthandwerk für besondere Geschenke und exc
 lusive Überraschungen erwartet Sie im Vereinshaus in Rankweil und dem
  angrenzenden Park Klosterreben. 10.00 - 17.00 Uhr Eintritt € 2,-- p
 ro Person (Kinder frei)\n\nWeitere Informationen erhalten Sie unter ht
 tps://kunsthandwerk.artbeat.at/events/handart-rankweil
DTSTART;TZID=Europe/Vienna:20131102T000000
DTEND;TZID=Europe/Vienna:20131103T235900
CATEGORIES:kunsthandwerksmarkt
LOCATION:Rankweil
WEBSITE:http://www.womenkraftlink.net
URL:http://www.womenkraftlink.net
CONTACT:
ORGANIZER:Womencraftlink
ATTACH;FMTTYPE="image/jpeg":http://storage.ning.com/topology/rest/1.0/
 file/get/122583922?profile=original
ATTENDEE;ROLE=REQ-PARTICIPANT;PARTSTAT=ACCEPTED;RSVP=TRUE;CN=artbeat:h
 ttps://kunsthandwerk.artbeat.at/profile/04jn571ett22n
END:VEVENT
END:VCALENDAR
