BEGIN:VCALENDAR
PRODID:NingEventWidget-v1
VERSION:2.0
METHOD:PUBLISH
BEGIN:VTIMEZONE
TZID:Europe/Vienna
X-LIC-LOCATION:Europe/Vienna
BEGIN:DAYLIGHT
TZOFFSETFROM:+0100
TZOFFSETTO:+0200
TZNAME:CEST
DTSTART:19700329T020000
RRULE:FREQ=YEARLY;BYMONTH=3;BYDAY=-1SU
END:DAYLIGHT
BEGIN:STANDARD
TZOFFSETFROM:+0200
TZOFFSETTO:+0100
TZNAME:CET
DTSTART:19701025T030000
RRULE:FREQ=YEARLY;BYMONTH=10;BYDAY=-1SU
END:STANDARD
END:VTIMEZONE
BEGIN:VEVENT
UID:6444107:Event:17168
DTSTAMP:20260424T153025Z
SUMMARY:Hexenmarkt Auberg
DESCRIPTION:Großen Anklang finden die Natur- und Kunsthandwerksproduk
 te am Standlmarkt sowie die kulinarischen Köstlichkeiten in der Hexen
 küche und in der Kaffeestube.\nDazu gibt es ein umfangreiches Rahmenp
 rogramm für Groß und Klein.\n\nWeitere Informationen erhalten Sie un
 ter https://kunsthandwerk.artbeat.at/events/hexenmarkt-auberg
DTSTART;TZID=Europe/Vienna:20141012T100000
DTEND;TZID=Europe/Vienna:20141012T180000
CATEGORIES:kunsthandwerksmarkt
LOCATION:Unterkagererhof
WEBSITE:http://hexenmarkt.at
URL:http://hexenmarkt.at
CONTACT:
ORGANIZER:Verein Obermühlviertler Denkmalhof Unterkagerer
ATTACH;FMTTYPE="image/jpeg":http://storage.ning.com/topology/rest/1.0/
 file/get/122584533?profile=original
ATTENDEE;ROLE=REQ-PARTICIPANT;PARTSTAT=ACCEPTED;RSVP=TRUE;CN=artbeat:h
 ttps://kunsthandwerk.artbeat.at/profile/04jn571ett22n
ATTENDEE;ROLE=REQ-PARTICIPANT;PARTSTAT=TENTATIVE;RSVP=TRUE;CN="Jasmin 
 Blumauer":https://kunsthandwerk.artbeat.at/profile/JasminBlumauer
END:VEVENT
END:VCALENDAR
