BEGIN:VCALENDAR
PRODID:NingEventWidget-v1
VERSION:2.0
METHOD:PUBLISH
BEGIN:VTIMEZONE
TZID:Europe/Vienna
X-LIC-LOCATION:Europe/Vienna
BEGIN:DAYLIGHT
TZOFFSETFROM:+0100
TZOFFSETTO:+0200
TZNAME:CEST
DTSTART:19700329T020000
RRULE:FREQ=YEARLY;BYMONTH=3;BYDAY=-1SU
END:DAYLIGHT
BEGIN:STANDARD
TZOFFSETFROM:+0200
TZOFFSETTO:+0100
TZNAME:CET
DTSTART:19701025T030000
RRULE:FREQ=YEARLY;BYMONTH=10;BYDAY=-1SU
END:STANDARD
END:VTIMEZONE
BEGIN:VEVENT
UID:6444107:Event:11983
DTSTAMP:20260424T180607Z
SUMMARY:KERAMIK IM  STEINBRUCH - Oberpullendorf
DESCRIPTION:K.i.Ste 2013 Oberpullendorf\n27. und 28. April, 10h – 17
 h\n\nKünstlerinnen aus Deutschland, Frankreich, Ungarn, der Schweiz u
 nd Österreich präsentieren künstlerische Keramik im Steinbruch von 
 Oberpullendorf (Mittleres Burgenland)\nVernissage: 26. April, 16 Uhr\n
 Info: 02612-42207 DW 322 (Stadtgemeinde)\n0676-7570 409 (Ehrenhöfer)\
 nwww.kultur-oberpullendorf.at\nInfo & Programm:\nhttp://kunsthandwerk.
 artbeat.at/profiles/blogs/herausragende-keramikkunst-im-steinbruch-von
 -oberpullendorf\n\nWeitere Informationen erhalten Sie unter https://ku
 nsthandwerk.artbeat.at/events/keramik-im-steinbruch-oberpullendorf
DTSTART;TZID=Europe/Vienna:20130427T000000
DTEND;TZID=Europe/Vienna:20130428T235900
CATEGORIES:keramik-ausstellung
LOCATION:Bezirk Oberpullendorf
WEBSITE:http://www.kultur-oberpullendorf.at
URL:http://www.kultur-oberpullendorf.at
CONTACT:
ORGANIZER:Kulturvereinigung Oberpullendorf
ATTACH;FMTTYPE="image/jpeg":http://storage.ning.com/topology/rest/1.0/
 file/get/122583058?profile=original
ATTENDEE;ROLE=REQ-PARTICIPANT;PARTSTAT=ACCEPTED;RSVP=TRUE;CN=artbeat:h
 ttps://kunsthandwerk.artbeat.at/profile/04jn571ett22n
END:VEVENT
END:VCALENDAR
