BEGIN:VCALENDAR
PRODID:NingEventWidget-v1
VERSION:2.0
METHOD:PUBLISH
BEGIN:VTIMEZONE
TZID:Europe/Vienna
X-LIC-LOCATION:Europe/Vienna
BEGIN:DAYLIGHT
TZOFFSETFROM:+0100
TZOFFSETTO:+0200
TZNAME:CEST
DTSTART:19700329T020000
RRULE:FREQ=YEARLY;BYMONTH=3;BYDAY=-1SU
END:DAYLIGHT
BEGIN:STANDARD
TZOFFSETFROM:+0200
TZOFFSETTO:+0100
TZNAME:CET
DTSTART:19701025T030000
RRULE:FREQ=YEARLY;BYMONTH=10;BYDAY=-1SU
END:STANDARD
END:VTIMEZONE
BEGIN:VEVENT
UID:6444107:Event:156249
DTSTAMP:20260425T201812Z
SUMMARY:Kräuterkirtag Klaffer am Hochficht
DESCRIPTION:\r\nJährlich am 15.08. von 9 bis 17 Uhr in Klaffer am Hoc
 hficht\r\nÜber 150 Aussteller aus den Bereich Kunsthandwerk, Lebensmi
 ttelherstellung, Gärtnerei und Spezialbetriebe. Besonderes Highlight:
  das „Genussplatzl“ am Gemeindevorplatz mit Genusslandbetrieben. R
 ahmenprogramm: Gottesdienst mit Kräuterweihe, Frühschoppen, kostenlo
 se Führungen im Bio-Heilkräutergarten und Kinderprogramm.\r\nWeitere
  Infos auf unserer Website: www.klaffer.ooe.gv.at\r\n\n\nWeitere Infor
 mationen erhalten Sie unter https://kunsthandwerk.artbeat.at/events/kr
 -uterkirtag-klaffer-am-hochficht
DTSTART;TZID=Europe/Vienna:20250815T090000
DTEND;TZID=Europe/Vienna:20250815T170000
CATEGORIES:kunsthandwerksmarkt
LOCATION:Klaffer am Hochficht
WEBSITE:http://www.klaffer.ooe.gv.at
URL:http://www.klaffer.ooe.gv.at
CONTACT:07288/7026-12 • iris.maurer@klaffer.ooe.gv.at
ORGANIZER:Verein Liebenswertes Klaffer am Hochficht
ATTACH;FMTTYPE="image/jpeg":https://storage.ning.com/topology/rest/1.0
 /file/get/12400481657?profile=original
ATTENDEE;ROLE=REQ-PARTICIPANT;PARTSTAT=ACCEPTED;RSVP=TRUE;CN=artbeat:h
 ttps://kunsthandwerk.artbeat.at/profile/04jn571ett22n
END:VEVENT
END:VCALENDAR
