BEGIN:VCALENDAR
PRODID:NingEventWidget-v1
VERSION:2.0
METHOD:PUBLISH
BEGIN:VTIMEZONE
TZID:Europe/Vienna
X-LIC-LOCATION:Europe/Vienna
BEGIN:DAYLIGHT
TZOFFSETFROM:+0100
TZOFFSETTO:+0200
TZNAME:CEST
DTSTART:19700329T020000
RRULE:FREQ=YEARLY;BYMONTH=3;BYDAY=-1SU
END:DAYLIGHT
BEGIN:STANDARD
TZOFFSETFROM:+0200
TZOFFSETTO:+0100
TZNAME:CET
DTSTART:19701025T030000
RRULE:FREQ=YEARLY;BYMONTH=10;BYDAY=-1SU
END:STANDARD
END:VTIMEZONE
BEGIN:VEVENT
UID:6444107:Event:146271
DTSTAMP:20260424T141226Z
SUMMARY:Kreativ- und Designmarkt Vorchdorf
DESCRIPTION:Bummeln zum Vatertag am ehemaligen Werksgelände und jetzi
 gen Veranstaltungszentrum der restaurierten Kitzmantelfabrik Vorchdorf
 . Wer sich nach den letzten Monaten etwas Besonderes gönnen möchte,
  einzigartige Geschenksideen sucht oder einfach nur schmökern möchte
 , der sollte am 12. und 13. Juni nach Vorchdorf kommen! Über 60 Ausst
 eller haben ihr Kommen zugesagt. \nUm Menschenansammlungen zu vermeid
 en, wird ein Marktgelände im Freien und in der Kitzmantelfabrik einge
 richtet. Besucher kommen am Besten gestaffelt: ab 10, ab 13 und ab 16 
 Uhr. Ein Ticket-Vorverkauf startete online, Restkarten gibt es vor Ort
 . Aussteller-Liste, Infos und Tickets unter: www.kreativ-designmarkt.a
 t, Kinder bis 15 Jahre frei, am Vatertag eine Überraschung für alle 
 Väter! \n\nWeitere Informationen erhalten Sie unter https://kunsthan
 dwerk.artbeat.at/events/kreativ-und-designmarkt-vorchdorf-1
DTSTART;TZID=Europe/Vienna:20210611T220000
DTEND;TZID=Europe/Vienna:20210612T220000
CATEGORIES:kunsthandwerksmarkt
LOCATION:Kitzmantelfabrik Vorchdorf, OÖ
WEBSITE:https://www.kreativ-designmarkt.at
URL:https://www.kreativ-designmarkt.at
CONTACT:office@kreativ-designmarkt.at
ORGANIZER;CN="Gerhard Radner":https://kunsthandwerk.artbeat.at/profile
 /GerhardRadner
ATTACH;FMTTYPE="image/jpeg":https://storage.ning.com/topology/rest/1.0
 /file/get/8981511298?profile=original
ATTENDEE;ROLE=REQ-PARTICIPANT;PARTSTAT=ACCEPTED;RSVP=TRUE;CN="Gerhard 
 Radner":https://kunsthandwerk.artbeat.at/profile/GerhardRadner
END:VEVENT
END:VCALENDAR
