BEGIN:VCALENDAR
PRODID:NingEventWidget-v1
VERSION:2.0
METHOD:PUBLISH
BEGIN:VTIMEZONE
TZID:Europe/Vienna
X-LIC-LOCATION:Europe/Vienna
BEGIN:DAYLIGHT
TZOFFSETFROM:+0100
TZOFFSETTO:+0200
TZNAME:CEST
DTSTART:19700329T020000
RRULE:FREQ=YEARLY;BYMONTH=3;BYDAY=-1SU
END:DAYLIGHT
BEGIN:STANDARD
TZOFFSETFROM:+0200
TZOFFSETTO:+0100
TZNAME:CET
DTSTART:19701025T030000
RRULE:FREQ=YEARLY;BYMONTH=10;BYDAY=-1SU
END:STANDARD
END:VTIMEZONE
BEGIN:VEVENT
UID:6444107:Event:15659
DTSTAMP:20260424T194420Z
SUMMARY:kuh=kunst&handwerk im biosphärenpark lungau
DESCRIPTION:In den Räumlichkeiten von Schloß Moosham bieten 24 Kunst
 handwerkerInnen  und KünstlerInnen ihre Hand gefertigten Waren zum V
 erkauf an.\n\nWeitere Informationen erhalten Sie unter https://kunstha
 ndwerk.artbeat.at/events/kuh-kunst-handwerk-im-biosph-renpark-lungau
DTSTART;TZID=Europe/Vienna:20131026T000000
DTEND;TZID=Europe/Vienna:20131027T235900
CATEGORIES:kunsthandwerksmarkt
LOCATION:Salzburg
WEBSITE:https://www.facebook.com/pages/KunstHandwerk-auf-Schloss-Moosh
 am/477020252387506
URL:https://www.facebook.com/pages/KunstHandwerk-auf-Schloss-Moosham/4
 77020252387506
CONTACT:0676/6197692
ORGANIZER;CN="Rosa Brenkusch":https://kunsthandwerk.artbeat.at/profile
 /RosaBrenkusch
ATTACH;FMTTYPE="image/jpeg":http://storage.ning.com/topology/rest/1.0/
 file/get/122584299?profile=original
ATTENDEE;ROLE=REQ-PARTICIPANT;PARTSTAT=ACCEPTED;RSVP=TRUE;CN="Maria Ka
 rrer":https://kunsthandwerk.artbeat.at/profile/MariaKarrer
ATTENDEE;ROLE=REQ-PARTICIPANT;PARTSTAT=ACCEPTED;RSVP=TRUE;CN="Rosa Bre
 nkusch":https://kunsthandwerk.artbeat.at/profile/RosaBrenkusch
ATTENDEE;ROLE=REQ-PARTICIPANT;PARTSTAT=TENTATIVE;RSVP=TRUE;CN="Ilse Pr
 euner":https://kunsthandwerk.artbeat.at/profile/IlsePreuner
END:VEVENT
END:VCALENDAR
