BEGIN:VCALENDAR
PRODID:NingEventWidget-v1
VERSION:2.0
METHOD:PUBLISH
BEGIN:VTIMEZONE
TZID:Europe/Vienna
X-LIC-LOCATION:Europe/Vienna
BEGIN:DAYLIGHT
TZOFFSETFROM:+0100
TZOFFSETTO:+0200
TZNAME:CEST
DTSTART:19700329T020000
RRULE:FREQ=YEARLY;BYMONTH=3;BYDAY=-1SU
END:DAYLIGHT
BEGIN:STANDARD
TZOFFSETFROM:+0200
TZOFFSETTO:+0100
TZNAME:CET
DTSTART:19701025T030000
RRULE:FREQ=YEARLY;BYMONTH=10;BYDAY=-1SU
END:STANDARD
END:VTIMEZONE
BEGIN:VEVENT
UID:6444107:Event:146246
DTSTAMP:20260424T195025Z
SUMMARY:KUNST und GENUSS Kunsthandwerksmarkt
DESCRIPTION:Die handgefertigten Arbeiten der Kunsthandwerker*innen aus
  Kärnten, Steiermark und Salzburg werden immer mehr gefragt, wir woll
 en wissen, woher Produkte kommen, woraus sie bestehen.\r\n\r\nZu sehen
 /kaufen gibt es Unikate aus Holz, Wolle, Stoff, Kunststoff, Glas, Natu
 rmaterialien, Kunstharz, Fimo und Metall.\r\n\r\nSchmuck, Deko, Tasche
 n, Gebrauchsgegenstände, Geschenke, Billets, Bilder, Upgecyceltes …
  aber auch Essige, Liköre ... die Vielfalt ist groß!\r\n\r\nDie Besu
 cher*innen müssen sich nicht testen lassen! Es ist wie beim Einkaufen
  (Spar, NKD, Pagro, ...). Maske, 2m Abstand und Hände desinfizieren r
 eichen!\r\n\r\nAusreichend Parkplätze vorhanden.\r\n\n\nWeitere Infor
 mationen erhalten Sie unter https://kunsthandwerk.artbeat.at/events/ku
 nst-amp-genuss-kunsthandwerksmarkt
DTSTART;TZID=Europe/Vienna:20210522T090000
DTEND;TZID=Europe/Vienna:20210523T170000
CATEGORIES:kunsthandwerksmarkt
LOCATION:Progress Zentrum Welzenegg, Kärnten
WEBSITE:https://www.facebook.com/Geknoepfelt/?ref=pages_you_manage
URL:https://www.facebook.com/Geknoepfelt/?ref=pages_you_manage
CONTACT:mkt@gmx.at
ORGANIZER;CN="Marlies KARNER-TAXER":https://kunsthandwerk.artbeat.at/p
 rofile/MarliesKARNERTAXER
ATTACH;FMTTYPE="image/jpeg":https://storage.ning.com/topology/rest/1.0
 /file/get/8949357475?profile=original
ATTENDEE;ROLE=REQ-PARTICIPANT;PARTSTAT=ACCEPTED;RSVP=TRUE;CN="Marlies 
 KARNER-TAXER":https://kunsthandwerk.artbeat.at/profile/MarliesKARNERTA
 XER
ATTENDEE;ROLE=REQ-PARTICIPANT;PARTSTAT=ACCEPTED;RSVP=TRUE;CN="Waltraud
  Schrittwieser":https://kunsthandwerk.artbeat.at/profile/WaltraudSchri
 ttwieser
END:VEVENT
END:VCALENDAR
