BEGIN:VCALENDAR
PRODID:NingEventWidget-v1
VERSION:2.0
METHOD:PUBLISH
BEGIN:VTIMEZONE
TZID:Europe/Vienna
X-LIC-LOCATION:Europe/Vienna
BEGIN:DAYLIGHT
TZOFFSETFROM:+0100
TZOFFSETTO:+0200
TZNAME:CEST
DTSTART:19700329T020000
RRULE:FREQ=YEARLY;BYMONTH=3;BYDAY=-1SU
END:DAYLIGHT
BEGIN:STANDARD
TZOFFSETFROM:+0200
TZOFFSETTO:+0100
TZNAME:CET
DTSTART:19701025T030000
RRULE:FREQ=YEARLY;BYMONTH=10;BYDAY=-1SU
END:STANDARD
END:VTIMEZONE
BEGIN:VEVENT
UID:6444107:Event:55180
DTSTAMP:20260424T154901Z
SUMMARY:Kunst Handwerk Verkaufsausstellung Salzburg
DESCRIPTION:Die Räume des Mozarteumorchesterhauses werden zum Ort
  der Begegnung zwischen interessierten Besuchern und produzierenden
  Künstlern und KunsthandwerkerInnen.\r\n10:00 - 18:00\r\n \n\nWeite
 re Informationen erhalten Sie unter https://kunsthandwerk.artbeat.at/e
 vents/kunst-handwerk-verkaufsausstellung-salzburg-9
DTSTART;TZID=Europe/Vienna:20191130T000000
DTEND;TZID=Europe/Vienna:20191201T235900
CATEGORIES:kunsthandwerksmarkt
LOCATION:Salzburg
WEBSITE:http://www.kunsthandwerk-kreartiv.com/
URL:http://www.kunsthandwerk-kreartiv.com/
CONTACT:+49-(0)8654-479165 - kontakt(at)kunsthandwerk-kreartiv.com
ORGANIZER:KreARTiv
ATTACH;FMTTYPE="image/jpeg":http://storage.ning.com/topology/rest/1.0/
 file/get/122582346?profile=original
ATTENDEE;ROLE=REQ-PARTICIPANT;PARTSTAT=ACCEPTED;RSVP=TRUE;CN=artbeat:h
 ttps://kunsthandwerk.artbeat.at/profile/04jn571ett22n
END:VEVENT
END:VCALENDAR
