BEGIN:VCALENDAR
PRODID:NingEventWidget-v1
VERSION:2.0
METHOD:PUBLISH
BEGIN:VTIMEZONE
TZID:Europe/Vienna
X-LIC-LOCATION:Europe/Vienna
BEGIN:DAYLIGHT
TZOFFSETFROM:+0100
TZOFFSETTO:+0200
TZNAME:CEST
DTSTART:19700329T020000
RRULE:FREQ=YEARLY;BYMONTH=3;BYDAY=-1SU
END:DAYLIGHT
BEGIN:STANDARD
TZOFFSETFROM:+0200
TZOFFSETTO:+0100
TZNAME:CET
DTSTART:19701025T030000
RRULE:FREQ=YEARLY;BYMONTH=10;BYDAY=-1SU
END:STANDARD
END:VTIMEZONE
BEGIN:VEVENT
UID:6444107:Event:142088
DTSTAMP:20260424T205825Z
SUMMARY:KUNST und GENUSS Kunsthandwerksmarkt
DESCRIPTION:Der vor Ostern geplante Kunsthandwerksmarkt KUNST & GENUSS
  in Klagenfurt wird aufgrund der Corona-Situation auf den 15. und 16. 
 Mai verschoben.\r\nÖffnungszeiten: tägl. von 9 bis 17 Uhr\n\nWeitere
  Informationen erhalten Sie unter https://kunsthandwerk.artbeat.at/eve
 nts/kunst-und-genuss-kunsthandwerksmarkt
DTSTART;TZID=Europe/Vienna:20210515T000000
DTEND;TZID=Europe/Vienna:20210516T235900
CATEGORIES:kunsthandwerksmarkt
LOCATION:Progress Zentrum
WEBSITE:https://www.unser-stadtplan.at/Stadtplan/Klagenfurt/pub/Progre
 ss-Zentrum.map
URL:https://www.unser-stadtplan.at/Stadtplan/Klagenfurt/pub/Progress-Z
 entrum.map
CONTACT:mkt@gmx.at
ORGANIZER;CN="Marlies KARNER-TAXER":https://kunsthandwerk.artbeat.at/p
 rofile/MarliesKARNERTAXER
ATTACH;FMTTYPE="image/jpeg":https://storage.ning.com/topology/rest/1.0
 /file/get/8819391872?profile=original
ATTENDEE;ROLE=REQ-PARTICIPANT;PARTSTAT=ACCEPTED;RSVP=TRUE;CN="Marlies 
 KARNER-TAXER":https://kunsthandwerk.artbeat.at/profile/MarliesKARNERTA
 XER
END:VEVENT
END:VCALENDAR
