BEGIN:VCALENDAR
PRODID:NingEventWidget-v1
VERSION:2.0
METHOD:PUBLISH
BEGIN:VTIMEZONE
TZID:Europe/Vienna
X-LIC-LOCATION:Europe/Vienna
BEGIN:DAYLIGHT
TZOFFSETFROM:+0100
TZOFFSETTO:+0200
TZNAME:CEST
DTSTART:19700329T020000
RRULE:FREQ=YEARLY;BYMONTH=3;BYDAY=-1SU
END:DAYLIGHT
BEGIN:STANDARD
TZOFFSETFROM:+0200
TZOFFSETTO:+0100
TZNAME:CET
DTSTART:19701025T030000
RRULE:FREQ=YEARLY;BYMONTH=10;BYDAY=-1SU
END:STANDARD
END:VTIMEZONE
BEGIN:VEVENT
UID:6444107:Event:148116
DTSTAMP:20260425T140847Z
SUMMARY:KunstHandWerk am Stadtplatz
DESCRIPTION:Wir planen für heuer wieder einen Kunsthandwerksmarkt am 
 Stadtplatz. \nEs gibt einige Änderungen: \nDer Termin ist am 1. und
  2. Oktober ganztags. \nNeu ist, dass es an diesem Wochenende nur die
 se Veranstaltung am Stadtplatz gibt mit größerem Rahmenprogramm wie 
 dem Waldviertler Fischmarkt, Frühshoppen am Sonntag sowie reichlich K
 ulinarik und Kultur.\n\nWeitere Informationen erhalten Sie unter https
 ://kunsthandwerk.artbeat.at/events/kunsthandwerk-am-stadtplatz-6
DTSTART;TZID=Europe/Vienna:20221001T000000
DTEND;TZID=Europe/Vienna:20221002T235900
CATEGORIES:kunsthandwerksmarkt
LOCATION:Niederösterreich
WEBSITE:https://goo.gl/maps/6vP9q1iaR7hvRCNc8
URL:https://goo.gl/maps/6vP9q1iaR7hvRCNc8
CONTACT:kunsthandwerk@w4creaktiv.at
ORGANIZER:Heidenreichstein CreAktiv
ATTACH;FMTTYPE="image/jpeg":https://storage.ning.com/topology/rest/1.0
 /file/get/10154199460?profile=original
ATTENDEE;ROLE=REQ-PARTICIPANT;PARTSTAT=ACCEPTED;RSVP=TRUE;CN="Sandra F
 ossalovara":https://kunsthandwerk.artbeat.at/profile/SandraFossalovara
END:VEVENT
END:VCALENDAR
