BEGIN:VCALENDAR
PRODID:NingEventWidget-v1
VERSION:2.0
METHOD:PUBLISH
BEGIN:VTIMEZONE
TZID:Europe/Vienna
X-LIC-LOCATION:Europe/Vienna
BEGIN:DAYLIGHT
TZOFFSETFROM:+0100
TZOFFSETTO:+0200
TZNAME:CEST
DTSTART:19700329T020000
RRULE:FREQ=YEARLY;BYMONTH=3;BYDAY=-1SU
END:DAYLIGHT
BEGIN:STANDARD
TZOFFSETFROM:+0200
TZOFFSETTO:+0100
TZNAME:CET
DTSTART:19701025T030000
RRULE:FREQ=YEARLY;BYMONTH=10;BYDAY=-1SU
END:STANDARD
END:VTIMEZONE
BEGIN:VEVENT
UID:6444107:Event:13696
DTSTAMP:20260424T135636Z
SUMMARY:Kunsthandwerk am Stadtplatz
DESCRIPTION:\nMehr als 40 Aussteller prÃ¤sentieren hier in GeschÃ¤ften
 , an ungewÃ¶hnlichen Orten und lÃ¤ngst vergessenen PlÃ¤tzen, qualitati
 v hochwertiges Hobby- und Kunsthandwerk.\nAusgehend von der wunderschÃ
 ¶nen Wasserburg folgen die Besucher den aufgestellten Staffeleien entl
 ang des Kunstpfades mit seinen 15 Stationen. Dabei werden Sie Augenzeu
 ge von manufakturgetreuer Porzellanmalerei, Schauschmieden und ja, das
  gibt es auch â€“ figuralem Schnitzen mit der MotorsÃ¤ge !\nOb selbst 
 gebrannte Glasperlen, Filz- oder Tiffany-Arbeiten, entdecken Sie die V
 ielfalt der handwerklichen Kostbarkeiten. Beim Regionalmarkt mit heimi
 schen Schmankerln und Bio-Produkten kommt auch der Gaumen nicht zu kur
 z.\n\nWir freuen uns auf Ihren Besuch in Heidenreichstein!\nIhr Heiden
 reichstein Crea(k)tiv-Team\nwww.w4creaktiv.at\n\nWeitere Informationen
  erhalten Sie unter https://kunsthandwerk.artbeat.at/events/kunsthandw
 erk-am-stadtplatz
DTSTART;TZID=Europe/Vienna:20130503T000000
DTEND;TZID=Europe/Vienna:20130505T235900
CATEGORIES:stadt, der, offenen, tÃ¼ren, -, kunsthandwerk, markt
LOCATION:Heidenreichstein
WEBSITE:
URL:
CONTACT:www.w4creaktiv.at
ORGANIZER;CN="Werner Ã–sterreicher":https://kunsthandwerk.artbeat.at/p
 rofile/WernerOEsterreicher
ATTACH;FMTTYPE="image/jpeg":http://storage.ning.com/topology/rest/1.0/
 file/get/122584016?profile=original
ATTENDEE;ROLE=REQ-PARTICIPANT;PARTSTAT=ACCEPTED;RSVP=TRUE;CN="Werner Ã
 –sterreicher":https://kunsthandwerk.artbeat.at/profile/WernerOEsterrei
 cher
END:VEVENT
END:VCALENDAR
