BEGIN:VCALENDAR
PRODID:NingEventWidget-v1
VERSION:2.0
METHOD:PUBLISH
BEGIN:VTIMEZONE
TZID:Europe/Vienna
X-LIC-LOCATION:Europe/Vienna
BEGIN:DAYLIGHT
TZOFFSETFROM:+0100
TZOFFSETTO:+0200
TZNAME:CEST
DTSTART:19700329T020000
RRULE:FREQ=YEARLY;BYMONTH=3;BYDAY=-1SU
END:DAYLIGHT
BEGIN:STANDARD
TZOFFSETFROM:+0200
TZOFFSETTO:+0100
TZNAME:CET
DTSTART:19701025T030000
RRULE:FREQ=YEARLY;BYMONTH=10;BYDAY=-1SU
END:STANDARD
END:VTIMEZONE
BEGIN:VEVENT
UID:6444107:Event:50674
DTSTAMP:20260425T172507Z
SUMMARY:Kunsthandwerksmarkt Bad Goisern
DESCRIPTION:Fr & Sa 9-19 Uhr • So 9-18 Uhr Dieser sehr gut eingefüh
 rte Kunsthandwerksmarkt auf dem Marktplatz von Bad Goisern im Salzkamm
 ergut ist bei den Einheimischen genauso beliebt wie bei den Touristen,
  Wanderern, Radfahrern und Kurgästen. Sie finden ein vielfältiges An
 gebot an Keramikwaren, Porzellan aus dem Ausseerland, Holzschnitzereie
 n, textiles Kunsthandwerk,  Loden und Filz, Schmuckunikate und vieles
  mehr. Eine besondere Vorführung bietet der Kettensägenschnitzer Rud
 i Schinnerl, er ist ein Künstler der besonderen Art.\n\nWeitere Infor
 mationen erhalten Sie unter https://kunsthandwerk.artbeat.at/events/ku
 nsthandwerksmarkt-bad-goisern-2
DTSTART;TZID=Europe/Vienna:20180720T000000
DTEND;TZID=Europe/Vienna:20180722T235900
CATEGORIES:kunsthandwerksmarkt
LOCATION:Bad Goisern
WEBSITE:http://www.diekunsthandwerker.at
URL:http://www.diekunsthandwerker.at
CONTACT:0650-4252886 - diekunsthandwerker(at)aon.at
ORGANIZER:dieKunsthandwerker
ATTACH;FMTTYPE="image/jpeg":http://storage.ning.com/topology/rest/1.0/
 file/get/122583862?profile=original
ATTENDEE;ROLE=REQ-PARTICIPANT;PARTSTAT=ACCEPTED;RSVP=TRUE;CN=artbeat:h
 ttps://kunsthandwerk.artbeat.at/profile/04jn571ett22n
END:VEVENT
END:VCALENDAR
