BEGIN:VCALENDAR
PRODID:NingEventWidget-v1
VERSION:2.0
METHOD:PUBLISH
BEGIN:VTIMEZONE
TZID:Europe/Vienna
X-LIC-LOCATION:Europe/Vienna
BEGIN:DAYLIGHT
TZOFFSETFROM:+0100
TZOFFSETTO:+0200
TZNAME:CEST
DTSTART:19700329T020000
RRULE:FREQ=YEARLY;BYMONTH=3;BYDAY=-1SU
END:DAYLIGHT
BEGIN:STANDARD
TZOFFSETFROM:+0200
TZOFFSETTO:+0100
TZNAME:CET
DTSTART:19701025T030000
RRULE:FREQ=YEARLY;BYMONTH=10;BYDAY=-1SU
END:STANDARD
END:VTIMEZONE
BEGIN:VEVENT
UID:6444107:Event:133491
DTSTAMP:20260424T154438Z
SUMMARY:Kunsthandwerksmarkt Krems
DESCRIPTION:Fr 16-21 Uhr • Sa 10-21 Uhr • So 10-17 Uhr \r\nJedes J
 ahr wird die Sommersonnenwende in der Wachau spektakulär und genussvo
 ll gefeiert. Sonnwendfeuer, Fackeln in den Weinbergen, beindruckende F
 euerwerke und kulinarische Köstlichkeiten locken viele Besucher nach 
 Krems und Umgebung. Parallel findet heuer in der Altstadt von Krems, U
 NESCO Weltkulturerbe, der 1. große Kunsthandwerksmarkt statt.Internat
 ionale Kunsthandwerker verwandeln den  Dreifaltigkeitsplatz und den T
 äglichen Markt in eine bunte Marktkulisse, anschließende Sonnwendfei
 ern in der Wachau verzaubern mit ihren Lichtspielen. Gemeinsam Zeit ve
 rbringen, unvergessliche Momente erleben.\n\nWeitere Informationen erh
 alten Sie unter https://kunsthandwerk.artbeat.at/events/kunsthandwerks
 markt-krems
DTSTART;TZID=Europe/Vienna:20210618T000000
DTEND;TZID=Europe/Vienna:20210620T235900
CATEGORIES:kunsthandwerksmarkt
LOCATION:Krems
WEBSITE:http://www.diekunsthandwerker.at
URL:http://www.diekunsthandwerker.at
CONTACT:0650-4252886 - diekunsthandwerker(at)aon.at
ORGANIZER:dieKunsthandwerker
ATTACH;FMTTYPE="image/jpeg":https://storage.ning.com/topology/rest/1.0
 /file/get/8517088866?profile=original
ATTENDEE;ROLE=REQ-PARTICIPANT;PARTSTAT=ACCEPTED;RSVP=TRUE;CN=artbeat:h
 ttps://kunsthandwerk.artbeat.at/profile/04jn571ett22n
END:VEVENT
END:VCALENDAR
