BEGIN:VCALENDAR
PRODID:NingEventWidget-v1
VERSION:2.0
METHOD:PUBLISH
BEGIN:VTIMEZONE
TZID:Europe/Vienna
X-LIC-LOCATION:Europe/Vienna
BEGIN:DAYLIGHT
TZOFFSETFROM:+0100
TZOFFSETTO:+0200
TZNAME:CEST
DTSTART:19700329T020000
RRULE:FREQ=YEARLY;BYMONTH=3;BYDAY=-1SU
END:DAYLIGHT
BEGIN:STANDARD
TZOFFSETFROM:+0200
TZOFFSETTO:+0100
TZNAME:CET
DTSTART:19701025T030000
RRULE:FREQ=YEARLY;BYMONTH=10;BYDAY=-1SU
END:STANDARD
END:VTIMEZONE
BEGIN:VEVENT
UID:6444107:Event:153588
DTSTAMP:20260425T154536Z
SUMMARY:Kunsthandwerksmarkt Mühlviertel - Südböhmen
DESCRIPTION:Am 07.+08.09.2024 findet wieder unser alljährlicher Kunst
 handwerksmarkt Mühlviertel - Süböhmen mit Frischemarkt in Windhaag 
 bei Freistadt statt.\nMarktzeiten:\nSamstag, 07.09.2024: 11:00 bis 18:
 00 Uhr\nSonntag, 08.09.2024: 10:00 bis 17:00 Uhr\n\nAnmeldungen werden
  unter: kunsthandwerksmarkt@gmail.com entgegengenommen!\n\nWeitere Inf
 ormationen erhalten Sie unter https://kunsthandwerk.artbeat.at/events/
 kunsthandwerksmarkt-m-hlviertel-s-db-hmen-2
DTSTART;TZID=Europe/Vienna:20240907T110000
DTEND;TZID=Europe/Vienna:20240908T170000
CATEGORIES:kunsthandwerksmarkt
LOCATION:Windhaag bei Freistadt, Oberösterreich
WEBSITE:
URL:
CONTACT:kunsthandwerksmarkt@gmail.com
ORGANIZER;CN="liebenswertes Windhaag b.Fr.":https://kunsthandwerk.artb
 eat.at/profile/TourismuskernWindhaagbFr
ATTACH;FMTTYPE="image/jpeg":https://storage.ning.com/topology/rest/1.0
 /file/get/12356858300?profile=original
ATTENDEE;ROLE=REQ-PARTICIPANT;PARTSTAT=ACCEPTED;RSVP=TRUE;CN="liebensw
 ertes Windhaag b.Fr.":https://kunsthandwerk.artbeat.at/profile/Tourism
 uskernWindhaagbFr
END:VEVENT
END:VCALENDAR
