BEGIN:VCALENDAR
PRODID:NingEventWidget-v1
VERSION:2.0
METHOD:PUBLISH
BEGIN:VTIMEZONE
TZID:Europe/Vienna
X-LIC-LOCATION:Europe/Vienna
BEGIN:DAYLIGHT
TZOFFSETFROM:+0100
TZOFFSETTO:+0200
TZNAME:CEST
DTSTART:19700329T020000
RRULE:FREQ=YEARLY;BYMONTH=3;BYDAY=-1SU
END:DAYLIGHT
BEGIN:STANDARD
TZOFFSETFROM:+0200
TZOFFSETTO:+0100
TZNAME:CET
DTSTART:19701025T030000
RRULE:FREQ=YEARLY;BYMONTH=10;BYDAY=-1SU
END:STANDARD
END:VTIMEZONE
BEGIN:VEVENT
UID:6444107:Event:156351
DTSTAMP:20260425T141011Z
SUMMARY:Kunsthandwerksmarkt Mühlviertel - Südböhmen
DESCRIPTION:Bereits zum 7. Mal findet am 6. und 7. September 2025 der
  Kunsthandwerksmarkt Mühlviertel-Südböhmen in Windhaag statt.\r\nWi
 r freuen uns schon auf den nächsten Markt und laden Sie herzlich dazu
  ein!\n\nWeitere Informationen erhalten Sie unter https://kunsthandwer
 k.artbeat.at/events/kunsthandwerksmarkt-m-hlviertel-s-db-hmen-3
DTSTART;TZID=Europe/Vienna:20250906T110000
DTEND;TZID=Europe/Vienna:20250907T180000
CATEGORIES:kunsthandwerksmarkt
LOCATION:Windhaag bei Freistadt
WEBSITE:http://www.greenbeltcenter.eu/highlights-aktuelle-veranstaltun
 gen/9-10september-2023-kunsthandwerksmarkt-muehlviertel-suedboehmen/
URL:http://www.greenbeltcenter.eu/highlights-aktuelle-veranstaltungen/
 9-10september-2023-kunsthandwerksmarkt-muehlviertel-suedboehmen/
CONTACT:kunsthandwerksmarkt@gmail.com
ORGANIZER:liebenswertes Windhaag b.Fr.
ATTACH;FMTTYPE="image/jpeg":https://storage.ning.com/topology/rest/1.0
 /file/get/10929672082?profile=original
ATTENDEE;ROLE=REQ-PARTICIPANT;PARTSTAT=ACCEPTED;RSVP=TRUE;CN=artbeat:h
 ttps://kunsthandwerk.artbeat.at/profile/04jn571ett22n
END:VEVENT
END:VCALENDAR
