BEGIN:VCALENDAR
PRODID:NingEventWidget-v1
VERSION:2.0
METHOD:PUBLISH
BEGIN:VTIMEZONE
TZID:Europe/Vienna
X-LIC-LOCATION:Europe/Vienna
BEGIN:DAYLIGHT
TZOFFSETFROM:+0100
TZOFFSETTO:+0200
TZNAME:CEST
DTSTART:19700329T020000
RRULE:FREQ=YEARLY;BYMONTH=3;BYDAY=-1SU
END:DAYLIGHT
BEGIN:STANDARD
TZOFFSETFROM:+0200
TZOFFSETTO:+0100
TZNAME:CET
DTSTART:19701025T030000
RRULE:FREQ=YEARLY;BYMONTH=10;BYDAY=-1SU
END:STANDARD
END:VTIMEZONE
BEGIN:VEVENT
UID:6444107:Event:133381
DTSTAMP:20260425T140812Z
SUMMARY:Kunsthandwerksmarkt Schörfling am Attersee
DESCRIPTION:Fr & Sa 10-19 Uhr • So 10-18 Uhr \r\nIdyllisch direkt an
  der Esplanade gelegen, findet heuer zum 6. Mal ein großer Kunsthandw
 erksmarkt statt. Flanieren Sie entlang der Marktstände mit Blick auf 
 den Hafen und das malerische Schloss Kammer, entdecken Sie die kreativ
 e Arbeit unserer Handwerker. Sie finden ausgefallene Schmuckunikate, K
 eramikwaren aller Art, Bilder, Gedrechseltes, schöne Dinge aus Althol
 z, textile Arbeiten und vieles mehr. Nutzen Sie die spezielle Gelegenh
 eit zum Einkaufen.\n\nWeitere Informationen erhalten Sie unter https:/
 /kunsthandwerk.artbeat.at/events/kunsthandwerksmarkt-sch-rfling-am-att
 ersee-3
DTSTART;TZID=Europe/Vienna:20220708T000000
DTEND;TZID=Europe/Vienna:20220710T235900
CATEGORIES:kunsthandwerksmarkt
LOCATION:Schörfling
WEBSITE:http://www.diekunsthandwerker.at
URL:http://www.diekunsthandwerker.at
CONTACT:0650-4252886 - diekunsthandwerker(at)aon.at
ORGANIZER:dieKunsthandwerker
ATTACH;FMTTYPE="image/jpeg":https://storage.ning.com/topology/rest/1.0
 /file/get/778768133?profile=original
ATTENDEE;ROLE=REQ-PARTICIPANT;PARTSTAT=ACCEPTED;RSVP=TRUE;CN=artbeat:h
 ttps://kunsthandwerk.artbeat.at/profile/04jn571ett22n
END:VEVENT
END:VCALENDAR
