BEGIN:VCALENDAR
PRODID:NingEventWidget-v1
VERSION:2.0
METHOD:PUBLISH
BEGIN:VTIMEZONE
TZID:Europe/Vienna
X-LIC-LOCATION:Europe/Vienna
BEGIN:DAYLIGHT
TZOFFSETFROM:+0100
TZOFFSETTO:+0200
TZNAME:CEST
DTSTART:19700329T020000
RRULE:FREQ=YEARLY;BYMONTH=3;BYDAY=-1SU
END:DAYLIGHT
BEGIN:STANDARD
TZOFFSETFROM:+0200
TZOFFSETTO:+0100
TZNAME:CET
DTSTART:19701025T030000
RRULE:FREQ=YEARLY;BYMONTH=10;BYDAY=-1SU
END:STANDARD
END:VTIMEZONE
BEGIN:VEVENT
UID:6444107:Event:50671
DTSTAMP:20260425T140734Z
SUMMARY:Kunsthandwerksmarkt Schörfling am Attersee
DESCRIPTION:Fr & Sa 10-20 Uhr • So 10-18 Uhr \r\nIdyllisch direkt an
  der Seepromenade gelegen, findet heuer zum ersten Mal ein großer Kun
 sthandwerksmarkt statt. Flanieren Sie entlang der Marktstände mit Bli
 ck auf den Hafen und das malerische Schloss Kammer, entdecken Sie die 
 kreative Arbeit unserer Handwerker. Sie finden ausgefallene Schmuckuni
 kate, Keramikwaren aller Art, Bilder, Gedrechseltes, schöne Dinge aus
  Altholz, textile Arbeiten und vieles mehr. Abends findet parallel das
  beliebte und gut besuchte Hafenfest statt, schon ab 12 Uhr sorgt der 
 Skiclub Schörfling für leibliches Wohl.\n\nWeitere Informationen erh
 alten Sie unter https://kunsthandwerk.artbeat.at/events/kunsthandwerks
 markt-sch-rfling-am-attersee
DTSTART;TZID=Europe/Vienna:20180713T000000
DTEND;TZID=Europe/Vienna:20180715T235900
CATEGORIES:kunsthandwerksmarkt
LOCATION:Schörfling
WEBSITE:http://www.diekunsthandwerker.at
URL:http://www.diekunsthandwerker.at
CONTACT:0650-4252886 - diekunsthandwerker(at)aon.at
ORGANIZER:dieKunsthandwerker
ATTACH;FMTTYPE="image/jpeg":http://storage.ning.com/topology/rest/1.0/
 file/get/122588077?profile=original
ATTENDEE;ROLE=REQ-PARTICIPANT;PARTSTAT=ACCEPTED;RSVP=TRUE;CN=artbeat:h
 ttps://kunsthandwerk.artbeat.at/profile/04jn571ett22n
END:VEVENT
END:VCALENDAR
