BEGIN:VCALENDAR
PRODID:NingEventWidget-v1
VERSION:2.0
METHOD:PUBLISH
BEGIN:VTIMEZONE
TZID:Europe/Vienna
X-LIC-LOCATION:Europe/Vienna
BEGIN:DAYLIGHT
TZOFFSETFROM:+0100
TZOFFSETTO:+0200
TZNAME:CEST
DTSTART:19700329T020000
RRULE:FREQ=YEARLY;BYMONTH=3;BYDAY=-1SU
END:DAYLIGHT
BEGIN:STANDARD
TZOFFSETFROM:+0200
TZOFFSETTO:+0100
TZNAME:CET
DTSTART:19701025T030000
RRULE:FREQ=YEARLY;BYMONTH=10;BYDAY=-1SU
END:STANDARD
END:VTIMEZONE
BEGIN:VEVENT
UID:6444107:Event:12074
DTSTAMP:20260424T204350Z
SUMMARY:Kunsthandwerksmarkt St. Pölten
DESCRIPTION:Bereits zum siebten Mal findet der Kunsthandwerksmarkt in 
 der pulsierenden Landeshauptstadt von Niederösterreich statt. Im Zent
 rum St. Pöltens verwandeln Kunsthandwerker aus Österreich, Deutschla
 nd und Ungarn den Rathausplatz wieder in eine bunte Marktkulisse.\n\nW
 eitere Informationen erhalten Sie unter https://kunsthandwerk.artbeat.
 at/events/kunsthandwerksmarkt-st-polten
DTSTART;TZID=Europe/Vienna:20130503T000000
DTEND;TZID=Europe/Vienna:20130505T235900
CATEGORIES:kunsthandwerksmarkt
LOCATION:St. Pölten
WEBSITE:http://www.kunsthandwerks-toepfermaerkte.com/
URL:http://www.kunsthandwerks-toepfermaerkte.com/
CONTACT:
ORGANIZER:Artekera
ATTACH;FMTTYPE="image/jpeg":http://storage.ning.com/topology/rest/1.0/
 file/get/122583775?profile=original
ATTENDEE;ROLE=REQ-PARTICIPANT;PARTSTAT=ACCEPTED;RSVP=TRUE;CN=artbeat:h
 ttps://kunsthandwerk.artbeat.at/profile/04jn571ett22n
END:VEVENT
END:VCALENDAR
