BEGIN:VCALENDAR
PRODID:NingEventWidget-v1
VERSION:2.0
METHOD:PUBLISH
BEGIN:VTIMEZONE
TZID:Europe/Vienna
X-LIC-LOCATION:Europe/Vienna
BEGIN:DAYLIGHT
TZOFFSETFROM:+0100
TZOFFSETTO:+0200
TZNAME:CEST
DTSTART:19700329T020000
RRULE:FREQ=YEARLY;BYMONTH=3;BYDAY=-1SU
END:DAYLIGHT
BEGIN:STANDARD
TZOFFSETFROM:+0200
TZOFFSETTO:+0100
TZNAME:CET
DTSTART:19701025T030000
RRULE:FREQ=YEARLY;BYMONTH=10;BYDAY=-1SU
END:STANDARD
END:VTIMEZONE
BEGIN:VEVENT
UID:6444107:Event:133555
DTSTAMP:20260424T155057Z
SUMMARY:Kunsthandwerksmarkt Tulln
DESCRIPTION:Di & Mi 10-19 Uhr â€¢ Do 10-18 Uhr \r\nIn der Bezirks- und
  Messestadt an der Donau, im Einzugsgebiet Wiens, mit vielen kulturell
 en Veranstaltungen findet auch heuer wieder der einzigartige, traditio
 nelle Kunsthandwerksmarkt am Hauptplatz statt. Der Hauptplatz mit daru
 nterliegender Tiefgarage und dem angrenzenden Einkaufszentrum lockt tÃ
 ¤glich sehr viele Besucher an. Am Freitag findet parallel der beliebte
  Naschmarkt statt.\n\nWeitere Informationen erhalten Sie unter https:/
 /kunsthandwerk.artbeat.at/events/kunsthandwerksmarkt-tulln-5
DTSTART;TZID=Europe/Vienna:20210608T000000
DTEND;TZID=Europe/Vienna:20210610T235900
CATEGORIES:kunsthandwerksmarkt
LOCATION:Tulln
WEBSITE:http://www.diekunsthandwerker.at
URL:http://www.diekunsthandwerker.at
CONTACT:0650-4252886 - diekunsthandwerker(at)aon.at
ORGANIZER:dieKunsthandwerker
ATTACH;FMTTYPE="image/jpeg":https://storage.ning.com/topology/rest/1.0
 /file/get/778604539?profile=original
ATTENDEE;ROLE=REQ-PARTICIPANT;PARTSTAT=ACCEPTED;RSVP=TRUE;CN=artbeat:h
 ttps://kunsthandwerk.artbeat.at/profile/04jn571ett22n
END:VEVENT
END:VCALENDAR
