BEGIN:VCALENDAR
PRODID:NingEventWidget-v1
VERSION:2.0
METHOD:PUBLISH
BEGIN:VTIMEZONE
TZID:Europe/Vienna
X-LIC-LOCATION:Europe/Vienna
BEGIN:DAYLIGHT
TZOFFSETFROM:+0100
TZOFFSETTO:+0200
TZNAME:CEST
DTSTART:19700329T020000
RRULE:FREQ=YEARLY;BYMONTH=3;BYDAY=-1SU
END:DAYLIGHT
BEGIN:STANDARD
TZOFFSETFROM:+0200
TZOFFSETTO:+0100
TZNAME:CET
DTSTART:19701025T030000
RRULE:FREQ=YEARLY;BYMONTH=10;BYDAY=-1SU
END:STANDARD
END:VTIMEZONE
BEGIN:VEVENT
UID:6444107:Event:36721
DTSTAMP:20260424T164428Z
SUMMARY:Kunsthandwerksmarkt Villach
DESCRIPTION:Der Kunsthandwerksmarkt findet am Rathausplatz von Villa
 ch statt und lockt mit seinem vielfältigen Angebot. Dekoratives, Herb
 stliches, Lichtobjekte und unikate Schmuckstücke verführen zum Einka
 uf.\n\nWeitere Informationen erhalten Sie unter https://kunsthandwerk.
 artbeat.at/events/kunsthandwerksmarkt-villach
DTSTART;TZID=Europe/Vienna:20161013T000000
DTEND;TZID=Europe/Vienna:20161015T235900
CATEGORIES:kunsthandwerksmarkt
LOCATION:Villach
WEBSITE:http://www.diekunsthandwerker.at
URL:http://www.diekunsthandwerker.at
CONTACT:0650-4252886 - diekunsthandwerker(at)aon.at
ORGANIZER:dieKunsthandwerker
ATTACH;FMTTYPE="image/jpeg":http://storage.ning.com/topology/rest/1.0/
 file/get/122586767?profile=original
ATTENDEE;ROLE=REQ-PARTICIPANT;PARTSTAT=ACCEPTED;RSVP=TRUE;CN=artbeat:h
 ttps://kunsthandwerk.artbeat.at/profile/04jn571ett22n
END:VEVENT
END:VCALENDAR
