BEGIN:VCALENDAR
PRODID:NingEventWidget-v1
VERSION:2.0
METHOD:PUBLISH
BEGIN:VTIMEZONE
TZID:Europe/Vienna
X-LIC-LOCATION:Europe/Vienna
BEGIN:DAYLIGHT
TZOFFSETFROM:+0100
TZOFFSETTO:+0200
TZNAME:CEST
DTSTART:19700329T020000
RRULE:FREQ=YEARLY;BYMONTH=3;BYDAY=-1SU
END:DAYLIGHT
BEGIN:STANDARD
TZOFFSETFROM:+0200
TZOFFSETTO:+0100
TZNAME:CET
DTSTART:19701025T030000
RRULE:FREQ=YEARLY;BYMONTH=10;BYDAY=-1SU
END:STANDARD
END:VTIMEZONE
BEGIN:VEVENT
UID:6444107:Event:12323
DTSTAMP:20260425T033247Z
SUMMARY:Kunsthandwerksmarkt Liebnitzmühle Raabs
DESCRIPTION: Das Genießerhotel Liebnitzmühle veranstaltet heuer zum 
 1. Mal einen KunstHANDwerksmarkt am 27. und 28. Juli 2013.Im ganz beso
 nderen Ambiente der Energiewelt wird Kunst und Handwerk ausgestellt u
 nd zum Kauf angeboten. \n\nWeitere Informationen erhalten Sie unter ht
 tps://kunsthandwerk.artbeat.at/events/kunsthandwerksmarkt
DTSTART;TZID=Europe/Vienna:20130727T120000
DTEND;TZID=Europe/Vienna:20130728T170000
CATEGORIES:kunsthandwerksmarkt
LOCATION:Hotel Liebnitzmühle
WEBSITE:http://www.liebnitzmuehle.at
URL:http://www.liebnitzmuehle.at
CONTACT:02846/7501
ORGANIZER;CN="Ute Göbert":https://kunsthandwerk.artbeat.at/profile/Ut
 eGoebert
ATTACH;FMTTYPE="image/jpeg":http://storage.ning.com/topology/rest/1.0/
 file/get/122584202?profile=original
ATTENDEE;ROLE=REQ-PARTICIPANT;PARTSTAT=ACCEPTED;RSVP=TRUE;CN="Ute Göb
 ert":https://kunsthandwerk.artbeat.at/profile/UteGoebert
ATTENDEE;ROLE=REQ-PARTICIPANT;PARTSTAT=ACCEPTED;RSVP=TRUE;CN="Silvia W
 alter":https://kunsthandwerk.artbeat.at/profile/SilviaWalter
ATTENDEE;ROLE=REQ-PARTICIPANT;PARTSTAT=ACCEPTED;RSVP=TRUE;CN="VOLF Ani
 ta":https://kunsthandwerk.artbeat.at/profile/VOLFAnita
END:VEVENT
END:VCALENDAR
