BEGIN:VCALENDAR
PRODID:NingEventWidget-v1
VERSION:2.0
METHOD:PUBLISH
BEGIN:VTIMEZONE
TZID:Europe/Vienna
X-LIC-LOCATION:Europe/Vienna
BEGIN:DAYLIGHT
TZOFFSETFROM:+0100
TZOFFSETTO:+0200
TZNAME:CEST
DTSTART:19700329T020000
RRULE:FREQ=YEARLY;BYMONTH=3;BYDAY=-1SU
END:DAYLIGHT
BEGIN:STANDARD
TZOFFSETFROM:+0200
TZOFFSETTO:+0100
TZNAME:CET
DTSTART:19701025T030000
RRULE:FREQ=YEARLY;BYMONTH=10;BYDAY=-1SU
END:STANDARD
END:VTIMEZONE
BEGIN:VEVENT
UID:6444107:Event:156468
DTSTAMP:20260425T173136Z
SUMMARY:Kunsthandwerkspektakel Eggenfelden/Bayern
DESCRIPTION:Kunsthandwerkspektakel Eggenfelden bei Pfarrkirchen, Bayer
 n\r\nüber 80 ausgewählte Kunsthandwerker, Feuershow und vieles mehr\
 r\nwww.kunst-handwerk-spektakel.de\n\nWeitere Informationen erhalten S
 ie unter https://kunsthandwerk.artbeat.at/events/kunsthandwerkspektake
 l-eggenfelden-bayern-1
DTSTART;TZID=Europe/Vienna:20250913T000000
DTEND;TZID=Europe/Vienna:20250914T235900
CATEGORIES:kunsthandwerksmarkt
LOCATION:Eggenfelden bei Pfarrkirchen, Bayern
WEBSITE:http://www.kunst-handwerk-spektakel.de
URL:http://www.kunst-handwerk-spektakel.de
CONTACT:0049-170-4857495 • ks-lebenslinie@gmx.at
ORGANIZER:Kornelia Soutschek
ATTACH;FMTTYPE="image/jpeg":https://storage.ning.com/topology/rest/1.0
 /file/get/13517193259?profile=original
ATTENDEE;ROLE=REQ-PARTICIPANT;PARTSTAT=ACCEPTED;RSVP=TRUE;CN=artbeat:h
 ttps://kunsthandwerk.artbeat.at/profile/04jn571ett22n
END:VEVENT
END:VCALENDAR
