BEGIN:VCALENDAR
PRODID:NingEventWidget-v1
VERSION:2.0
METHOD:PUBLISH
BEGIN:VTIMEZONE
TZID:Europe/Vienna
X-LIC-LOCATION:Europe/Vienna
BEGIN:DAYLIGHT
TZOFFSETFROM:+0100
TZOFFSETTO:+0200
TZNAME:CEST
DTSTART:19700329T020000
RRULE:FREQ=YEARLY;BYMONTH=3;BYDAY=-1SU
END:DAYLIGHT
BEGIN:STANDARD
TZOFFSETFROM:+0200
TZOFFSETTO:+0100
TZNAME:CET
DTSTART:19701025T030000
RRULE:FREQ=YEARLY;BYMONTH=10;BYDAY=-1SU
END:STANDARD
END:VTIMEZONE
BEGIN:VEVENT
UID:6444107:Event:13835
DTSTAMP:20260424T153716Z
SUMMARY:Markt für Handwerk, Kunst und Garten im Kulturgut Höribach
DESCRIPTION:Viele schöne Dinge an einem Platz mit ganz besonderem Fla
 ir mit Ausstellern in Zelten und im Gewölbe. Musik und Kinderprogramm
 ; Mai-Ständchen: Sängerbund Mondsee. Thaiküche...\n\n\nWeitere Info
 rmationen erhalten Sie unter https://kunsthandwerk.artbeat.at/events/m
 arkt-f-r-handwerk-kunst-und-garten-im-kulturgut-h-ribach
DTSTART;TZID=Europe/Vienna:20130501T110000
DTEND;TZID=Europe/Vienna:20130501T200000
CATEGORIES:kunsthandwerksmarkt
LOCATION:Höribach
WEBSITE:http://kulturgut-mondsee.eu
URL:http://kulturgut-mondsee.eu
CONTACT:
ORGANIZER:Kulturgut Höribach
ATTACH;FMTTYPE="image/jpeg":http://storage.ning.com/topology/rest/1.0/
 file/get/122583054?profile=original
ATTENDEE;ROLE=REQ-PARTICIPANT;PARTSTAT=ACCEPTED;RSVP=TRUE;CN=artbeat:h
 ttps://kunsthandwerk.artbeat.at/profile/04jn571ett22n
END:VEVENT
END:VCALENDAR
