BEGIN:VCALENDAR
PRODID:NingEventWidget-v1
VERSION:2.0
METHOD:PUBLISH
BEGIN:VTIMEZONE
TZID:Europe/Vienna
X-LIC-LOCATION:Europe/Vienna
BEGIN:DAYLIGHT
TZOFFSETFROM:+0100
TZOFFSETTO:+0200
TZNAME:CEST
DTSTART:19700329T020000
RRULE:FREQ=YEARLY;BYMONTH=3;BYDAY=-1SU
END:DAYLIGHT
BEGIN:STANDARD
TZOFFSETFROM:+0200
TZOFFSETTO:+0100
TZNAME:CET
DTSTART:19701025T030000
RRULE:FREQ=YEARLY;BYMONTH=10;BYDAY=-1SU
END:STANDARD
END:VTIMEZONE
BEGIN:VEVENT
UID:6444107:Event:159028
DTSTAMP:20260424T065746Z
SUMMARY:MARKTTAGE auf Aggstein
DESCRIPTION:Ein echter Höhepunkt im Wachauer Herbst: Am Dirndlgwandso
 nntag verzaubern die Markttage auf der Burgruine Aggstein ihr Publikum
  jedes Jahr aufs Neue und laden auch heuer wieder an zwei besonderen T
 agen zum Genießen ein. Erleben Sie den grandiosen Ausblick mit frisch
 em Sturm & warmen Maronis und regionalen Köstlichkeiten, während Sie
  durch den Markt schlendern.\nFreuen Sie sich auf Singen mit Aussicht,
  einen Auftritt des Chors und der Volkstanzgruppe Krems Lerchenfeld, s
 owie eine Dirndl-Modeschau – ein buntes Programm für alle Besucheri
 nnen und Besucher!\nDer Eintritt zum Markt ist frei – für die Burgr
 uine gelten die aktuellen Tagespreise.\n\nWeitere Informationen erhalt
 en Sie unter https://kunsthandwerk.artbeat.at/events/markttage-auf-agg
 stein
DTSTART;TZID=Europe/Vienna:20260912T090000
DTEND;TZID=Europe/Vienna:20260913T180000
CATEGORIES:kunsthandwerksmarkt, kulinarik
LOCATION:Wachau, Niederösterreich
WEBSITE:https://www.ruineaggstein.at/veranstaltungen/markttag
URL:https://www.ruineaggstein.at/veranstaltungen/markttag
CONTACT:+43 (0) 650-8350 804 I ch.jaeger@ruineaggstein.at
ORGANIZER;CN="Christine Jäger":https://kunsthandwerk.artbeat.at/profi
 le/ChristineJaeger
ATTACH;FMTTYPE="image/jpeg":https://storage.ning.com/topology/rest/1.0
 /file/get/31101308673?profile=original
ATTENDEE;ROLE=REQ-PARTICIPANT;PARTSTAT=ACCEPTED;RSVP=TRUE;CN="Christin
 e Jäger":https://kunsthandwerk.artbeat.at/profile/ChristineJaeger
END:VEVENT
END:VCALENDAR
