BEGIN:VCALENDAR
PRODID:NingEventWidget-v1
VERSION:2.0
METHOD:PUBLISH
BEGIN:VTIMEZONE
TZID:Europe/Vienna
X-LIC-LOCATION:Europe/Vienna
BEGIN:DAYLIGHT
TZOFFSETFROM:+0100
TZOFFSETTO:+0200
TZNAME:CEST
DTSTART:19700329T020000
RRULE:FREQ=YEARLY;BYMONTH=3;BYDAY=-1SU
END:DAYLIGHT
BEGIN:STANDARD
TZOFFSETFROM:+0200
TZOFFSETTO:+0100
TZNAME:CET
DTSTART:19701025T030000
RRULE:FREQ=YEARLY;BYMONTH=10;BYDAY=-1SU
END:STANDARD
END:VTIMEZONE
BEGIN:VEVENT
UID:6444107:Event:29004
DTSTAMP:20260424T170330Z
SUMMARY:Martinimarkt HOFKIRCHEN/Trattnach
DESCRIPTION:Der Arbeitskreis Vereinsleben veranstaltet den 5. Hofkirch
 ner Martinimarkt in der Neuen Mittelschule Hofkirchen.Über 70 Ausstel
 ler präsentieren Kunsthandwerk und bäuerliche Produkte und bieten si
 e zum Kauf an.\nab 10:00\n\nhttp://www.hofkirchen-trattnach.at\n \n\n
 Weitere Informationen erhalten Sie unter https://kunsthandwerk.artbeat
 .at/events/martinimarkt-hofkirchen-trattnach-2
DTSTART;TZID=Europe/Vienna:20151107T000000
DTEND;TZID=Europe/Vienna:20151108T235900
CATEGORIES:kunsthandwerksmarkt
LOCATION:Hofkirchen an der Trattnach
WEBSITE:http://www.hofkirchen-trattnach.at
URL:http://www.hofkirchen-trattnach.at
CONTACT:
ORGANIZER:Gemeindeamt Hofkirchen
ATTACH;FMTTYPE="image/jpeg":http://storage.ning.com/topology/rest/1.0/
 file/get/122582405?profile=original
ATTENDEE;ROLE=REQ-PARTICIPANT;PARTSTAT=ACCEPTED;RSVP=TRUE;CN=artbeat:h
 ttps://kunsthandwerk.artbeat.at/profile/04jn571ett22n
END:VEVENT
END:VCALENDAR
