BEGIN:VCALENDAR
PRODID:NingEventWidget-v1
VERSION:2.0
METHOD:PUBLISH
BEGIN:VTIMEZONE
TZID:Europe/Vienna
X-LIC-LOCATION:Europe/Vienna
BEGIN:DAYLIGHT
TZOFFSETFROM:+0100
TZOFFSETTO:+0200
TZNAME:CEST
DTSTART:19700329T020000
RRULE:FREQ=YEARLY;BYMONTH=3;BYDAY=-1SU
END:DAYLIGHT
BEGIN:STANDARD
TZOFFSETFROM:+0200
TZOFFSETTO:+0100
TZNAME:CET
DTSTART:19701025T030000
RRULE:FREQ=YEARLY;BYMONTH=10;BYDAY=-1SU
END:STANDARD
END:VTIMEZONE
BEGIN:VEVENT
UID:6444107:Event:59330
DTSTAMP:20260424T135532Z
SUMMARY:Martinimarkt Steinerkirchen – abgesagt!
DESCRIPTION:Der Martinimarkt Steinerkirchen zählt zu den traditionell
 sten und größten Kunsthandwerksmärkten in Österreich. 2020 wird er
  bereits zum 40. Mal in Folge durchgeführt. Seit 2006 findet der Mark
 t am alten oberen Dorfplatz, in der 100 Jahre alten Schule sowie im In
 nenhof des Benediktinerinnenklosters statt. Hohe Qualität der Produkt
 e, eine nahezu perfekte Organisation und das wunderschöne Ambiente si
 nd die Grundlage für das besondere Flair dieser Veranstaltung, welche
  jährlich rund 15-18.000 Besucher aus Nah und Fern anzieht. \r\n Ein
  interessantes Rahmenprogramm wird parallel angeboten.   Öffnungszei
 ten: Sa 9-18 / So 9-17 Uhr\r\nMehr Infos und Anmeldemöglichkeit von J
 änner bis April via Homepage: www.martinimarkt.at\n\nWeitere Informat
 ionen erhalten Sie unter https://kunsthandwerk.artbeat.at/events/marti
 nimarkt-steinerkirchen-9
DTSTART;TZID=Europe/Vienna:20201107T090000
DTEND;TZID=Europe/Vienna:20201108T170000
CATEGORIES:kunsthandwerksmarkt
LOCATION:Ortszentrum Steinerkirchen
WEBSITE:http://www.martinimarkt.at
URL:http://www.martinimarkt.at
CONTACT:07241-2255-10 - info(at)martinimarkt.at
ORGANIZER:Hubert Ecklbauer
ATTACH;FMTTYPE="image/jpeg":http://storage.ning.com/topology/rest/1.0/
 file/get/122582959?profile=original
ATTENDEE;ROLE=REQ-PARTICIPANT;PARTSTAT=ACCEPTED;RSVP=TRUE;CN=artbeat:h
 ttps://kunsthandwerk.artbeat.at/profile/04jn571ett22n
END:VEVENT
END:VCALENDAR
