BEGIN:VCALENDAR
PRODID:NingEventWidget-v1
VERSION:2.0
METHOD:PUBLISH
BEGIN:VTIMEZONE
TZID:Europe/Vienna
X-LIC-LOCATION:Europe/Vienna
BEGIN:DAYLIGHT
TZOFFSETFROM:+0100
TZOFFSETTO:+0200
TZNAME:CEST
DTSTART:19700329T020000
RRULE:FREQ=YEARLY;BYMONTH=3;BYDAY=-1SU
END:DAYLIGHT
BEGIN:STANDARD
TZOFFSETFROM:+0200
TZOFFSETTO:+0100
TZNAME:CET
DTSTART:19701025T030000
RRULE:FREQ=YEARLY;BYMONTH=10;BYDAY=-1SU
END:STANDARD
END:VTIMEZONE
BEGIN:VEVENT
UID:6444107:Event:146369
DTSTAMP:20260424T184039Z
SUMMARY:Mayflower – Markt zum Mai im Kulturgut Höribach
DESCRIPTION:MARKT für HANDWERK – KUNST und GARTEN Samstag 13 bis 1
 9 Uhr, Sonntag 11 bis 17 Uhr\n\nWeitere Informationen erhalten Sie unt
 er https://kunsthandwerk.artbeat.at/events/mayflower-markt-zum-mai-im-
 kulturgut-h-ribach
DTSTART;TZID=Europe/Vienna:20210529T000000
DTEND;TZID=Europe/Vienna:20210530T235900
CATEGORIES:kunsthandwerksmarkt
LOCATION:Höribach
WEBSITE:http://kulturgut-mondsee.eu
URL:http://kulturgut-mondsee.eu
CONTACT:06232-27585 - laden(at)kulturgut-mondsee.eu
ORGANIZER:Kulturgut Höribach
ATTACH;FMTTYPE="image/jpeg":http://storage.ning.com/topology/rest/1.0/
 file/get/122583054?profile=original
ATTENDEE;ROLE=REQ-PARTICIPANT;PARTSTAT=ACCEPTED;RSVP=TRUE;CN=artbeat:h
 ttps://kunsthandwerk.artbeat.at/profile/04jn571ett22n
END:VEVENT
END:VCALENDAR
