BEGIN:VCALENDAR
PRODID:NingEventWidget-v1
VERSION:2.0
METHOD:PUBLISH
BEGIN:VTIMEZONE
TZID:Europe/Vienna
X-LIC-LOCATION:Europe/Vienna
BEGIN:DAYLIGHT
TZOFFSETFROM:+0100
TZOFFSETTO:+0200
TZNAME:CEST
DTSTART:19700329T020000
RRULE:FREQ=YEARLY;BYMONTH=3;BYDAY=-1SU
END:DAYLIGHT
BEGIN:STANDARD
TZOFFSETFROM:+0200
TZOFFSETTO:+0100
TZNAME:CET
DTSTART:19701025T030000
RRULE:FREQ=YEARLY;BYMONTH=10;BYDAY=-1SU
END:STANDARD
END:VTIMEZONE
BEGIN:VEVENT
UID:6444107:Event:41623
DTSTAMP:20260424T153716Z
SUMMARY:NÖ Tage der offenen Ateliers im Atelier Allerhand Kunsthandwe
 rk
DESCRIPTION:\nGlaskunst aus eigener Werkstatt\nHolzarbeiten von Oreana
  (Caroline) Krasovic\nHolzkunst von Toshen\nKeramik von Elisabeth Iven
 z\nSkulpturen für Haus und Garten von Gerhard Moser\nKeramik und Schm
 uck von Helga Reisinger\nMalerei von Karin Leonhartsberger\nHinterglas
 malerei von Johann Pum\nGlaskunst aus Schweden von Magnus Andersson\nB
 ilder zum Begreifen von Alexander Imre\n\n \nGäste\n\nKarin und Helm
 ut Popp – Kamptal-Alpakas und deren Produkte\nChristine Schmid – T
 extiles Handwerk\n\n\n\n\n\n\n\nRegina Kaltenbrunner wird am Sonntag k
 löppeln\nElisabeth Eitelberger zeigt „Coiling“ eine überlieferte
  handwerkliche Technik der Aborigines\n\n \n\nWeitere Informationen e
 rhalten Sie unter https://kunsthandwerk.artbeat.at/events/n-tage-der-o
 ffenen-ateliers-im-atelier-allerhand-kunsthandwerk
DTSTART;TZID=Europe/Vienna:20161015T140000
DTEND;TZID=Europe/Vienna:20161016T180000
CATEGORIES:ausstellung
LOCATION:Niederösterreich
WEBSITE:http://www.allerhand-kunsthandwerk.eu
URL:http://www.allerhand-kunsthandwerk.eu
CONTACT:atelier@allerhand-kunsthandwerk.eu
ORGANIZER;CN="Katharina Mavridou-Olson":https://kunsthandwerk.artbeat.
 at/profile/KatharinaMavridouOlson
ATTACH;FMTTYPE="image/jpeg":http://storage.ning.com/topology/rest/1.0/
 file/get/122587296?profile=original
ATTENDEE;ROLE=REQ-PARTICIPANT;PARTSTAT=ACCEPTED;RSVP=TRUE;CN="Katharin
 a Mavridou-Olson":https://kunsthandwerk.artbeat.at/profile/KatharinaMa
 vridouOlson
END:VEVENT
END:VCALENDAR
