BEGIN:VCALENDAR
PRODID:NingEventWidget-v1
VERSION:2.0
METHOD:PUBLISH
BEGIN:VTIMEZONE
TZID:Europe/Vienna
X-LIC-LOCATION:Europe/Vienna
BEGIN:DAYLIGHT
TZOFFSETFROM:+0100
TZOFFSETTO:+0200
TZNAME:CEST
DTSTART:19700329T020000
RRULE:FREQ=YEARLY;BYMONTH=3;BYDAY=-1SU
END:DAYLIGHT
BEGIN:STANDARD
TZOFFSETFROM:+0200
TZOFFSETTO:+0100
TZNAME:CET
DTSTART:19701025T030000
RRULE:FREQ=YEARLY;BYMONTH=10;BYDAY=-1SU
END:STANDARD
END:VTIMEZONE
BEGIN:VEVENT
UID:6444107:Event:57811
DTSTAMP:20260425T134241Z
SUMMARY:Romantik Weihnachtsmarkt
DESCRIPTION:Romantik Weihnachtsmarkt\nWenn Klasse statt Masse auch Ihr
  Credo ist, dann sind Sie am 8.12. von 9h bis 18h in St.Stefan ob Stai
 nz, Lestein 41 an der richtigen Adresse. Statt Lagerhallencharakter un
 d Hektik können Sie im stimmungsvollen Ambiente der Tischlerei Marian
 ne Fuchs von duftenden Bratäpfeln, Kekse und vielen andere Leckereien
  kosten, durchwandern Sie unsere Hallen und tauchen Sie ein, in einen 
 Weihnachtsmarkt der besonderen Art. Wir freuen uns auf Sie!\nSie sind 
 AustellerIn? Bewerben Sie sich noch!\n\nWeitere Informationen erhalten
  Sie unter https://kunsthandwerk.artbeat.at/events/romantik-weihnachts
 markt
DTSTART;TZID=Europe/Vienna:20191208T090000
DTEND;TZID=Europe/Vienna:20191208T180000
CATEGORIES:weihnachtsmarkt
LOCATION:Steiermark Schilcherland
WEBSITE:http://www.indertischlerei.net
URL:http://www.indertischlerei.net
CONTACT:06507047100
ORGANIZER;CN="Volker Weiss":https://kunsthandwerk.artbeat.at/profile/V
 olkerWeiss
ATTACH;FMTTYPE="image/jpeg":https://storage.ning.com/topology/rest/1.0
 /file/get/3476096058?profile=original
ATTENDEE;ROLE=REQ-PARTICIPANT;PARTSTAT=ACCEPTED;RSVP=TRUE;CN="Volker W
 eiss":https://kunsthandwerk.artbeat.at/profile/VolkerWeiss
END:VEVENT
END:VCALENDAR
