BEGIN:VCALENDAR
PRODID:NingEventWidget-v1
VERSION:2.0
METHOD:PUBLISH
BEGIN:VTIMEZONE
TZID:Europe/Vienna
X-LIC-LOCATION:Europe/Vienna
BEGIN:DAYLIGHT
TZOFFSETFROM:+0100
TZOFFSETTO:+0200
TZNAME:CEST
DTSTART:19700329T020000
RRULE:FREQ=YEARLY;BYMONTH=3;BYDAY=-1SU
END:DAYLIGHT
BEGIN:STANDARD
TZOFFSETFROM:+0200
TZOFFSETTO:+0100
TZNAME:CET
DTSTART:19701025T030000
RRULE:FREQ=YEARLY;BYMONTH=10;BYDAY=-1SU
END:STANDARD
END:VTIMEZONE
BEGIN:VEVENT
UID:6444107:Event:24565
DTSTAMP:20260425T152401Z
SUMMARY:Schlossweihnacht 2014
DESCRIPTION:Als Highlight im Innviertler Advent bieten wir auch heuer 
 wieder einen unvergleichbaren Weihnachtsmarkt Schloss Katzenberg.  Uns
 er romantisches Schlossgelände mit der alten Kastanienallee bietet ni
 cht nur in der Weihnachtszeit eine einzigartige Kulisse. Finden Sie ho
 chwertige Produkte von zahlreichen Kunst- und Handwerksausstellern in 
 der Allee, den alten Hengststallungen und im Schlosskeller. Zahlreiche
  kulinarische Köstlichkeiten und unser selbstgemachter Schlosspunsch 
 warten auf Sie.  Auch dieses Jahr dürfen wir wieder ein Meisterwerk 
 der Buchbinderkunst präsentieren, das Faksimile des Codex Gisle aus O
 snabrück. Dieses prachtvolle Stück kann in unserer Schatzkammer begu
 tachtet werden.   Natürlich erwartet Sie ein umfangreiches Rahmenprog
 ramm am gesamten Veranstalungsgelände. Details dazu auf unserer Websi
 te www.schlossweihnacht.at !\n\nWeitere Informationen erhalten Sie unt
 er https://kunsthandwerk.artbeat.at/events/schlossweihnacht-2014
DTSTART;TZID=Europe/Vienna:20141212T170000
DTEND;TZID=Europe/Vienna:20141214T190000
CATEGORIES:weihnachtsmarkt
LOCATION:Oberösterreich, Innviertel, Schloss Katzenberg
WEBSITE:http://www.schlossweihnacht.at
URL:http://www.schlossweihnacht.at
CONTACT:0664-9905396
ORGANIZER;CN="Steinbrener Johannes":https://kunsthandwerk.artbeat.at/p
 rofile/SteinbrenerJohannes
ATTACH;FMTTYPE="image/jpeg":http://storage.ning.com/topology/rest/1.0/
 file/get/122585590?profile=original
ATTENDEE;ROLE=REQ-PARTICIPANT;PARTSTAT=ACCEPTED;RSVP=TRUE;CN="Steinbre
 ner Johannes":https://kunsthandwerk.artbeat.at/profile/SteinbrenerJoha
 nnes
END:VEVENT
END:VCALENDAR
