BEGIN:VCALENDAR
PRODID:NingEventWidget-v1
VERSION:2.0
METHOD:PUBLISH
BEGIN:VTIMEZONE
TZID:Europe/Vienna
X-LIC-LOCATION:Europe/Vienna
BEGIN:DAYLIGHT
TZOFFSETFROM:+0100
TZOFFSETTO:+0200
TZNAME:CEST
DTSTART:19700329T020000
RRULE:FREQ=YEARLY;BYMONTH=3;BYDAY=-1SU
END:DAYLIGHT
BEGIN:STANDARD
TZOFFSETFROM:+0200
TZOFFSETTO:+0100
TZNAME:CET
DTSTART:19701025T030000
RRULE:FREQ=YEARLY;BYMONTH=10;BYDAY=-1SU
END:STANDARD
END:VTIMEZONE
BEGIN:VEVENT
UID:6444107:Event:24452
DTSTAMP:20260424T165436Z
SUMMARY:Tag des offenen Ateliers bei UseRoseS
DESCRIPTION:Wieder ist ein Jahr vergangen und die Pforten unseres Natu
 rgartenateliers öffnen sich. Entdecke neues und altes, abstraktes und
  realistisches, buntes und schlichtes und vieles mehr!  Bei Livegitarr
 enmusik und einem kleinen Buffet können die verschiedenen Exponate im
  Naturgartenambiente und Atelier genossen werden.  Zusätzlich wird ei
 n Trommel-, Mal- und Töpferworkshop für klein und groß geboten.  Au
 ssteller:\nUlrike und Robert Selberherr Malerei, Keramik, Skulpturen, 
 Objekte, Kunsthandwerk, Schmuckgestaltung, Dekoration  Wir laden herzl
 ich ein, uns am 18. Oktober von 14 bis 18 Uhr zu besuchen.  Wir wünsc
 hen einen interessanten Nachmittag und viel Spaß!\n\nWeitere Informat
 ionen erhalten Sie unter https://kunsthandwerk.artbeat.at/events/tag-d
 es-offenen-ateliers-bei-useroses
DTSTART;TZID=Europe/Vienna:20141018T140000
DTEND;TZID=Europe/Vienna:20141018T180000
CATEGORIES:ausstellung, mit, kreativworkshops
LOCATION:UseRoseS - Natur-Leben-Kunst
WEBSITE:https://www.google.at/maps/place/UseRoseS+-+Natur-Leben-Kunst/
 @47.901727,16.394879,17z/data=!3m1!4b1!4m2!3m1!1s0x476c4b207e7f3fd3:0x
 5214b2b41ec604?hl=de
URL:https://www.google.at/maps/place/UseRoseS+-+Natur-Leben-Kunst/@47.
 901727,16.394879,17z/data=!3m1!4b1!4m2!3m1!1s0x476c4b207e7f3fd3:0x5214
 b2b41ec604?hl=de
CONTACT:0699/10 55 27 06
ORGANIZER;CN="UseRoseS Natur-Leben-Kunst":https://kunsthandwerk.artbea
 t.at/profile/useroses
ATTACH;FMTTYPE="image/jpeg":http://storage.ning.com/topology/rest/1.0/
 file/get/122585734?profile=original
ATTENDEE;ROLE=REQ-PARTICIPANT;PARTSTAT=ACCEPTED;RSVP=TRUE;CN="UseRoseS
  Natur-Leben-Kunst":https://kunsthandwerk.artbeat.at/profile/useroses
END:VEVENT
END:VCALENDAR
