BEGIN:VCALENDAR
PRODID:NingEventWidget-v1
VERSION:2.0
METHOD:PUBLISH
BEGIN:VTIMEZONE
TZID:Europe/Vienna
X-LIC-LOCATION:Europe/Vienna
BEGIN:DAYLIGHT
TZOFFSETFROM:+0100
TZOFFSETTO:+0200
TZNAME:CEST
DTSTART:19700329T020000
RRULE:FREQ=YEARLY;BYMONTH=3;BYDAY=-1SU
END:DAYLIGHT
BEGIN:STANDARD
TZOFFSETFROM:+0200
TZOFFSETTO:+0100
TZNAME:CET
DTSTART:19701025T030000
RRULE:FREQ=YEARLY;BYMONTH=10;BYDAY=-1SU
END:STANDARD
END:VTIMEZONE
BEGIN:VEVENT
UID:6444107:Event:17418
DTSTAMP:20260424T122642Z
SUMMARY:Weihnachtsmarkt im Johanneumviertel GRAZ
DESCRIPTION:Die STEIRISCHE INITIATIVE KUNSTHANDWERK, die 33 Jahren de
 n Kunsthandwerksmarkt am Grazer Färberplatz organisierte, präsentier
 t nun am neuen Standort im Johanneumviertel nachvollziehbare, durchsch
 aubare Kunst. Echt und authentisch.\nEin breit gefächertes und qualit
 ativ hochwertiges  Kunstangebot von 25 KünstlerInnen lädt ein. So v
 ielfältig wie sie selbst sind auch ihre Arbeiten und die dabei verwen
 deten Materialien.\nMo - Sa 11:00 – 19:00, So 12:00 - 18:00\n\nWeite
 re Informationen erhalten Sie unter https://kunsthandwerk.artbeat.at/e
 vents/weihnachtsmarkt-im-johanneumviertel-graz
DTSTART;TZID=Europe/Vienna:20141128T000000
DTEND;TZID=Europe/Vienna:20141223T235900
CATEGORIES:kunsthandwerksmarkt
LOCATION:Graz
WEBSITE:http://www.stikh.at
URL:http://www.stikh.at
CONTACT:
ORGANIZER:Steirische Initiative Kunsthandwerk
ATTACH;FMTTYPE="image/jpeg":http://storage.ning.com/topology/rest/1.0/
 file/get/122585680?profile=original
ATTENDEE;ROLE=REQ-PARTICIPANT;PARTSTAT=ACCEPTED;RSVP=TRUE;CN=artbeat:h
 ttps://kunsthandwerk.artbeat.at/profile/04jn571ett22n
END:VEVENT
END:VCALENDAR
